BEGIN:VCALENDAR
VERSION:2.0
PRODID:-//The Krush 95.9 - ECPv5.6.0//NONSGML v1.0//EN
CALSCALE:GREGORIAN
METHOD:PUBLISH
X-WR-CALNAME:The Krush 95.9
X-ORIGINAL-URL:https://www.krsh.com
X-WR-CALDESC:Events for The Krush 95.9
BEGIN:VTIMEZONE
TZID:America/Los_Angeles
BEGIN:DAYLIGHT
TZOFFSETFROM:-0800
TZOFFSETTO:-0700
TZNAME:PDT
DTSTART:20260308T100000
END:DAYLIGHT
BEGIN:STANDARD
TZOFFSETFROM:-0700
TZOFFSETTO:-0800
TZNAME:PST
DTSTART:20261101T090000
END:STANDARD
END:VTIMEZONE
BEGIN:VEVENT
DTSTART;TZID=America/Los_Angeles:20260724T180000
DTEND;TZID=America/Los_Angeles:20260724T210000
DTSTAMP:20260425T170921
CREATED:20260415T225628Z
LAST-MODIFIED:20260415T225628Z
UID:94054-1784916000-1784926800@www.krsh.com
SUMMARY:Terrapin Roadshow at Forest Meadows Amphitheater 2026
DESCRIPTION:July 24\, 25\, & 26 • 6PM\, 5PM\, 2PM \nForest Meadows Amphitheater\, San Rafael CA \n\n\n\n\n\n\n\n\n\n\n890 Belle Ave\, San Rafael\, CA 94901 \nGET TICKETS\nFeaturing: \nGrahame Lesh \nNicki Bluhm \nRoss James \nAlex Koford \nJason Crosby \nPLUS: \nTim Bluhm \nBarry Sless \nStu Allen \nReed Mathis \nGreg Loaicono
URL:https://www.krsh.com/event/terrapin-roadshow-at-forest-meadows-amphitheater-2026/
LOCATION:Forest Meadows Amphitheater\, 890 Belle Ave\, San Rafael\, CA\, 94901\, United States
CATEGORIES:Concerts,Events
ATTACH;FMTTYPE=image/jpeg:https://dehayf5mhw1h7.cloudfront.net/wp-content/uploads/sites/1697/2026/04/15224616/9a10afe8-7654-4879-8c3e-d7354244ee41.jpeg
END:VEVENT
BEGIN:VEVENT
DTSTART;TZID=America/Los_Angeles:20260725T210000
DTEND;TZID=America/Los_Angeles:20260726T000000
DTSTAMP:20260425T170921
CREATED:20260415T225628Z
LAST-MODIFIED:20260415T225628Z
UID:94056-1785013200-1785024000@www.krsh.com
SUMMARY:Terrapin Roadshow at Forest Meadows Amphitheater 2026
DESCRIPTION:July 24\, 25\, & 26 • 6PM\, 5PM\, 2PM \nForest Meadows Amphitheater\, San Rafael CA \n\n\n\n\n\n\n\n\n\n\n890 Belle Ave\, San Rafael\, CA 94901 \nGET TICKETS\nFeaturing: \nGrahame Lesh \nNicki Bluhm \nRoss James \nAlex Koford \nJason Crosby \nPLUS: \nTim Bluhm \nBarry Sless \nStu Allen \nReed Mathis \nGreg Loaicono
URL:https://www.krsh.com/event/terrapin-roadshow-at-forest-meadows-amphitheater-2026/2026-07-25/
LOCATION:Forest Meadows Amphitheater\, 890 Belle Ave\, San Rafael\, CA\, 94901\, United States
CATEGORIES:Concerts,Events
ATTACH;FMTTYPE=image/jpeg:https://dehayf5mhw1h7.cloudfront.net/wp-content/uploads/sites/1697/2026/04/15224616/9a10afe8-7654-4879-8c3e-d7354244ee41.jpeg
END:VEVENT
BEGIN:VEVENT
DTSTART;TZID=America/Los_Angeles:20260726T183000
DTEND;TZID=America/Los_Angeles:20260726T210000
DTSTAMP:20260425T170921
CREATED:20260415T225628Z
LAST-MODIFIED:20260415T225628Z
UID:94057-1785090600-1785099600@www.krsh.com
SUMMARY:Terrapin Roadshow at Forest Meadows Amphitheater 2026
DESCRIPTION:July 24\, 25\, & 26 • 6PM\, 5PM\, 2PM \nForest Meadows Amphitheater\, San Rafael CA \n\n\n\n\n\n\n\n\n\n\n890 Belle Ave\, San Rafael\, CA 94901 \nGET TICKETS\nFeaturing: \nGrahame Lesh \nNicki Bluhm \nRoss James \nAlex Koford \nJason Crosby \nPLUS: \nTim Bluhm \nBarry Sless \nStu Allen \nReed Mathis \nGreg Loaicono
URL:https://www.krsh.com/event/terrapin-roadshow-at-forest-meadows-amphitheater-2026/2026-07-26/
LOCATION:Forest Meadows Amphitheater\, 890 Belle Ave\, San Rafael\, CA\, 94901\, United States
CATEGORIES:Concerts,Events
ATTACH;FMTTYPE=image/jpeg:https://dehayf5mhw1h7.cloudfront.net/wp-content/uploads/sites/1697/2026/04/15224616/9a10afe8-7654-4879-8c3e-d7354244ee41.jpeg
END:VEVENT
END:VCALENDAR