BEGIN:VCALENDAR
VERSION:2.0
PRODID:-//The Krush 95.9 - ECPv5.6.0//NONSGML v1.0//EN
CALSCALE:GREGORIAN
METHOD:PUBLISH
X-WR-CALNAME:The Krush 95.9
X-ORIGINAL-URL:https://www.krsh.com
X-WR-CALDESC:Events for The Krush 95.9
BEGIN:VTIMEZONE
TZID:America/Los_Angeles
BEGIN:DAYLIGHT
TZOFFSETFROM:-0800
TZOFFSETTO:-0700
TZNAME:PDT
DTSTART:20260308T100000
END:DAYLIGHT
BEGIN:STANDARD
TZOFFSETFROM:-0700
TZOFFSETTO:-0800
TZNAME:PST
DTSTART:20261101T090000
END:STANDARD
END:VTIMEZONE
BEGIN:VEVENT
DTSTART;TZID=America/Los_Angeles:20260424T120000
DTEND;TZID=America/Los_Angeles:20260426T230000
DTSTAMP:20260424T070149
CREATED:20250609T202209Z
LAST-MODIFIED:20260401T215250Z
UID:90221-1777032000-1777244400@www.krsh.com
SUMMARY:Stagecoach 2026
DESCRIPTION:April 24-26\, 2026 \nEmpire Polo Club \nIndio\, CA \nGET TICKETS
URL:https://www.krsh.com/event/stagecoach-2026/
LOCATION:Empire Polo Club\, 81-800 Ave 51\, Indio\, 92201\, United States
CATEGORIES:Concerts,Events
ATTACH;FMTTYPE=image/png:https://dehayf5mhw1h7.cloudfront.net/wp-content/uploads/sites/1697/2025/06/09202209/stagecoach-banner-1.png
END:VEVENT
BEGIN:VEVENT
DTSTART;TZID=America/Los_Angeles:20260425T110000
DTEND;TZID=America/Los_Angeles:20260425T180000
DTSTAMP:20260424T070149
CREATED:20260413T203501Z
LAST-MODIFIED:20260413T203830Z
UID:93997-1777114800-1777140000@www.krsh.com
SUMMARY:80th Annual Apple Blossom Festival Day 1
DESCRIPTION:Apple Blossom Festival 2026 Day 1\, Sebastopol\, CA 95472 \nParade Down Main Street 10am-12pm \nGET TICKETS
URL:https://www.krsh.com/event/80th-annual-apple-blossom-festival-day-1/
LOCATION:Apple Blossom Festival\, 282 S High St.\, Sebastopol\, CA\, 95472\, United States
CATEGORIES:Concerts,Events
ATTACH;FMTTYPE=image/webp:https://dehayf5mhw1h7.cloudfront.net/wp-content/uploads/sites/1697/2026/04/13203501/appleblossomfest2026.webp
END:VEVENT
BEGIN:VEVENT
DTSTART;TZID=America/Los_Angeles:20260426T100000
DTEND;TZID=America/Los_Angeles:20260426T150000
DTSTAMP:20260424T070149
CREATED:20260416T201438Z
LAST-MODIFIED:20260416T201438Z
UID:94069-1777197600-1777215600@www.krsh.com
SUMMARY:6th Annual Wildfire & Earthquake Expo
DESCRIPTION:Wildfire and Earthquake Expo 2026\nSunday\, April 26\, 2026 \nSonoma County Fairgrounds \n10 AM to 3 PM \nLEARN MORE\nJoin us for the 6th Annual Wildfire and Earthquake Expo—the largest emergency preparedness event tailored for Sonoma County and our neighbors—happening on Sunday\, April 26! \nThis free event offers unique\, hands-on opportunities to learn how County and municipal emergency response teams work together to keep us safe during wildfires and earthquakes. You’ll also discover how to better prepare yourself to assist in protecting your family\, business\, property\, pets\, and livestock.
URL:https://www.krsh.com/event/6th-annual-wildfire-earthquake-expo/
LOCATION:Sonoma County Fairgrounds\, 1350 Bennett Valley Road\, Santa Rosa\, CA\, 95404\, United States
CATEGORIES:Events
ATTACH;FMTTYPE=image/png:https://dehayf5mhw1h7.cloudfront.net/wp-content/uploads/sites/1697/2026/03/02125156/sonoma-county-wildfire-earthquake-expo-1.png
END:VEVENT
BEGIN:VEVENT
DTSTART;TZID=America/Los_Angeles:20260426T110000
DTEND;TZID=America/Los_Angeles:20260426T180000
DTSTAMP:20260424T070149
CREATED:20260413T203833Z
LAST-MODIFIED:20260413T203833Z
UID:94001-1777201200-1777226400@www.krsh.com
SUMMARY:80th Annual Apple Blossom Festival Day 2
DESCRIPTION:Apple Blossom Festival 2026 Day 2\, Sebastopol\, CA 95472 \nGET TICKETS
URL:https://www.krsh.com/event/80th-annual-apple-blossom-festival-day-2/
LOCATION:Apple Blossom Festival\, 282 S High St.\, Sebastopol\, CA\, 95472\, United States
CATEGORIES:Concerts,Events
ATTACH;FMTTYPE=image/webp:https://dehayf5mhw1h7.cloudfront.net/wp-content/uploads/sites/1697/2026/04/13203501/appleblossomfest2026.webp
END:VEVENT
BEGIN:VEVENT
DTSTART;TZID=America/Los_Angeles:20260428T160000
DTEND;TZID=America/Los_Angeles:20260428T190000
DTSTAMP:20260424T070149
CREATED:20260326T204333Z
LAST-MODIFIED:20260326T204907Z
UID:93645-1777392000-1777402800@www.krsh.com
SUMMARY:Santa Rosa Metro Expo
DESCRIPTION:Tuesday\, April 28\, 4:00-7:00pm \nLuther Burbank Center for the Arts \nFree and open to the public to attend\n$12 for a beer & wine samples wristband \nLEARN MORE \nThe Metro Expo\, formerly Showcase Sonoma County\, is the Metro Chamber’s largest and most interactive networking event and business expo\, celebrates and highlights the brightest business leaders from the most dynamic companies in Sonoma County. There will be exhibits from over 100 fellow Sonoma County businesses—from tech\, finance and manufacturing to restaurants\, wineries and breweries—from world-renowned brands to local businesses you know and love.
URL:https://www.krsh.com/event/santa-rosa-metro-expo/
LOCATION:Luther Burbank Center\, 50 Mark West Springs Rd\, Santa Rosa\, CA\, 95403\, United States
CATEGORIES:Events
ATTACH;FMTTYPE=image/jpeg:https://dehayf5mhw1h7.cloudfront.net/wp-content/uploads/sites/1697/2026/03/26134302/637578295_1324207473078384_6930613028624150804_n.jpg
END:VEVENT
BEGIN:VEVENT
DTSTART;TZID=America/Los_Angeles:20260429T200000
DTEND;TZID=America/Los_Angeles:20260429T220000
DTSTAMP:20260424T070149
CREATED:20260210T203428Z
LAST-MODIFIED:20260410T222728Z
UID:93064-1777492800-1777500000@www.krsh.com
SUMMARY:The Wedding Present at HopMonk Novato
DESCRIPTION:THE WEDDING PRESENT with support by MARK ROBINSON SINGS UNREST\n\npresented by (((folkYeah!))) \nWHEN: Wednesday\, April 29th 2026 \nWHERE: HopMonk Novato \nTIME: Doors 7pm | Show 8pm \nGET TICKETS
URL:https://www.krsh.com/event/the-wedding-present-hopmonk-novato/
LOCATION:HopMonk Novato\, 224 Vintage Way\, Novato\, CA\, 94945\, United States
CATEGORIES:Concerts,Events
ATTACH;FMTTYPE=image/png:https://dehayf5mhw1h7.cloudfront.net/wp-content/uploads/sites/1697/2026/02/10203428/the-wedding-present-folkyeah-poster.png
END:VEVENT
BEGIN:VEVENT
DTSTART;TZID=America/Los_Angeles:20260430T170000
DTEND;TZID=America/Los_Angeles:20260430T200000
DTSTAMP:20260424T070149
CREATED:20260414T233128Z
LAST-MODIFIED:20260414T233128Z
UID:94027-1777568400-1777579200@www.krsh.com
SUMMARY:Windsor Spring Fling Wine Walk
DESCRIPTION:Spring Fling Wine Walk on the Town Green\nThursday\, April 30\, 2026 • 5-8PM\nGET TICKETS\nJoin us for our Annual Spring Fling Wine Walk event\, showcasing the delightful businesses of Windsor on the Town Green\, and celebrating the start of the Spring season! Just in time for Mother’s Day\, attendees will have the chance to wander from store to store\, savoring delicious wine while shopping for gifts. Enjoy live music by local band The AJ’s and a mobile photo booth.  It’s a fantastic opportunity to engage with the community and support our local businesses. \n  \nOver 20 participating stores\, businesses and Windsor non-profits will pour local Sonoma County wines. Some will serve food bites too! Enjoy a leisurely stroll as you relax\, sip\, and shop – what better way to spend a spring evening? \n  \nA portion of the proceeds will benefit Windsor High School Project Grad and their mission to give our graduates a safe\, sober\, and memorable grad night. \n  \nSPRING FLING 2026 SPONSORS \nPremier Event Sponsor: Wine Country Radio\, The Krush 95.9\nPresenting Event Sponsor: Recology Sonoma Marin\nCommunity Sponsor: Cameron & Company Trucking Inc.\nLive music by the AJ’s: Lisa Phillippi of LP Travel Design\nPhoto Booth Sponsor: Fidelity National Title\nGlassware Sponsors:  Mark Shimizu Design\, Mutt Lynch Winery\, Oak Tree Winery
URL:https://www.krsh.com/event/windsor-spring-fling-wine-walk-2/
LOCATION:Windsor Town Green\, 701 McClelland Dr\, Windsor\, 95492\, United States
CATEGORIES:Events
ATTACH;FMTTYPE=image/jpeg:https://dehayf5mhw1h7.cloudfront.net/wp-content/uploads/sites/1697/2026/04/14163118/spring-fling-logo-nodate.jpg
END:VEVENT
BEGIN:VEVENT
DTSTART;TZID=America/Los_Angeles:20260430T200000
DTEND;TZID=America/Los_Angeles:20260430T220000
DTSTAMP:20260424T070149
CREATED:20260403T213041Z
LAST-MODIFIED:20260403T213041Z
UID:93809-1777579200-1777586400@www.krsh.com
SUMMARY:Jonathan Van Ness @ The Castro on 4/30
DESCRIPTION:Date: Thursday\, April 30th\, 2026 \nTime: 8:00PM \nLocation: The Castro Theater\, San Francisco\, CA \nGET TICKETS
URL:https://www.krsh.com/event/jonathan-van-ness-the-castro-on-4-30/
LOCATION:CA
CATEGORIES:Concerts,Events
ATTACH;FMTTYPE=image/jpeg:https://dehayf5mhw1h7.cloudfront.net/wp-content/uploads/sites/1697/2026/04/03143007/7ceebd41-62ff-4297-bcc1-45e0e9afe88e_event_detail_page_16_9.jpg
END:VEVENT
BEGIN:VEVENT
DTSTART;TZID=America/Los_Angeles:20260504T193000
DTEND;TZID=America/Los_Angeles:20260504T210000
DTSTAMP:20260424T070149
CREATED:20260413T204320Z
LAST-MODIFIED:20260413T204511Z
UID:94004-1777923000-1777928400@www.krsh.com
SUMMARY:Snail Mail @ The Warfield Theatre SF
DESCRIPTION:Snail Mail @ The Warfield Theatre\, San Francisco CA 94102 \nGET TICKETS
URL:https://www.krsh.com/event/snail-mail-the-warfield-theatre-sf/
LOCATION:The Warfield\, 982 Market St\, San Francisco\, CA\, 94102\, United States
CATEGORIES:Concerts
ATTACH;FMTTYPE=image/jpeg:https://dehayf5mhw1h7.cloudfront.net/wp-content/uploads/sites/1697/2026/04/13204320/snailmail.jpg
END:VEVENT
BEGIN:VEVENT
DTSTART;TZID=America/Los_Angeles:20260505T200000
DTEND;TZID=America/Los_Angeles:20260505T230000
DTSTAMP:20260424T070149
CREATED:20260115T201505Z
LAST-MODIFIED:20260115T201505Z
UID:92765-1778011200-1778022000@www.krsh.com
SUMMARY:The Wood Brothers at The Fillmore
DESCRIPTION:The Wood Brothers\n\nTue • May 05\, 2026 • 8:00 PM\nThe Fillmore\, San Francisco\, CA\nGET TICKETS
URL:https://www.krsh.com/event/the-wood-brothers-at-the-fillmore/
LOCATION:The Fillmore\, 1475 Fillmore ST\, San Francisco\, CA\, 94115\, United States
CATEGORIES:Concerts,Events
ATTACH;FMTTYPE=image/jpeg:https://dehayf5mhw1h7.cloudfront.net/wp-content/uploads/sites/1697/2026/01/15121446/static_social-instagram_1080x1080_thewoodbrothers_2026_regional_thefillmore_0505.jpg
END:VEVENT
BEGIN:VEVENT
DTSTART;TZID=America/Los_Angeles:20260508T190000
DTEND;TZID=America/Los_Angeles:20260508T210000
DTSTAMP:20260424T070149
CREATED:20260225T000941Z
LAST-MODIFIED:20260228T005048Z
UID:93256-1778266800-1778274000@www.krsh.com
SUMMARY:The San Francisco Scottish Fiddlers at The Veterans Memorial Theatre in Davis
DESCRIPTION:8 May 2026\n\n7:00 PM – 9:00 PM (PDT)\n\nVeterans Memorial Theatre\, Davis\, CA\n\nLEARN MORE\n\nStravaig\, an evening stroll through Celtic music and culture presented by the San Francisco Scottish Fiddlers under the directorship of Caroline McCaskey\, returns to The Veterans Memorial Theatre in Davis on Friday\, May 8th at 7pm.
URL:https://www.krsh.com/event/the-san-francisco-scottish-fiddlers-at-the-veterans-memorial-theatre-in-davis/
LOCATION:Veterans Memorial Theatre\, 277 E. 14th Street\, Davis\, CA\, 95616\, United States
CATEGORIES:Concerts,Events
ATTACH;FMTTYPE=image/png:https://dehayf5mhw1h7.cloudfront.net/wp-content/uploads/sites/1697/2026/02/25000941/0b943887-0c8c-449e-8e81-8993af4b10d3.png
END:VEVENT
BEGIN:VEVENT
DTSTART;TZID=America/Los_Angeles:20260509T190000
DTEND;TZID=America/Los_Angeles:20260509T210000
DTSTAMP:20260424T070149
CREATED:20260225T001448Z
LAST-MODIFIED:20260228T005105Z
UID:93260-1778353200-1778360400@www.krsh.com
SUMMARY:The San Francisco Scottish Fiddlers at The Freight in Berkeley
DESCRIPTION:9 May 2026\n\n7:00 PM – 9:00 PM (PDT)\n\nThe Freight\, Berkeley\, CA\n\nLEARN MORE\n\nThe San Francisco Scottish Fiddlers under the directorship of Caroline McCaskey bring Stravaig\, an evening stroll through Celtic music and culture\, to The Freight in Berkeley on Saturday\, May 9th at 7pm.
URL:https://www.krsh.com/event/the-san-francisco-scottish-fiddlers-at-the-freight-in-berkeley/
LOCATION:The Freight\, 2020 Addison St\, Berkeley\, CA\, 94704\, United States
CATEGORIES:Concerts,Events
ATTACH;FMTTYPE=image/png:https://dehayf5mhw1h7.cloudfront.net/wp-content/uploads/sites/1697/2026/02/25000941/0b943887-0c8c-449e-8e81-8993af4b10d3.png
END:VEVENT
BEGIN:VEVENT
DTSTART;TZID=America/Los_Angeles:20260509T200000
DTEND;TZID=America/Los_Angeles:20260509T220000
DTSTAMP:20260424T070149
CREATED:20260416T212938Z
LAST-MODIFIED:20260416T213152Z
UID:94080-1778356800-1778364000@www.krsh.com
SUMMARY:Bobby Rush & North Mississippi Allstars
DESCRIPTION:Luther Burbank Center for the Arts\, Santa Rosa CA \nBUY TICKETS
URL:https://www.krsh.com/event/bobby-rush-north-mississippi-allstars/
LOCATION:Luther Burbank Center\, 50 Mark West Springs Rd\, Santa Rosa\, CA\, 95403\, United States
CATEGORIES:Concerts,Events
ATTACH;FMTTYPE=image/png:https://dehayf5mhw1h7.cloudfront.net/wp-content/uploads/sites/1697/2026/04/16212938/bobby-rush-and-nma-facebookeventbanner_1920x1080.png
END:VEVENT
BEGIN:VEVENT
DTSTART;TZID=America/Los_Angeles:20260509T200000
DTEND;TZID=America/Los_Angeles:20260509T230000
DTSTAMP:20260424T070149
CREATED:20260422T191532Z
LAST-MODIFIED:20260422T191532Z
UID:94216-1778356800-1778367600@www.krsh.com
SUMMARY:Ronstadt Revolution at Jerry Knight's River Theater
DESCRIPTION:Ronstadt Revolution @ Jerry Knight’s Historic River Theater\n16135 Main St. Guerneville\, CA \nSaturday\, May 9 •  8 PM – 11 PM\n\nGET TICKETS
URL:https://www.krsh.com/event/ronstadt-revolution-at-jerry-knights-river-theater/
LOCATION:Jerry Knight’s River Theater\, 16135 Main St\, Guerneville\, CA\, 95446\, United States
CATEGORIES:Concerts,Events
ATTACH;FMTTYPE=image/png:https://dehayf5mhw1h7.cloudfront.net/wp-content/uploads/sites/1697/2026/04/22121520/ronstadt-revolution.png
END:VEVENT
BEGIN:VEVENT
DTSTART;TZID=America/Los_Angeles:20260510T140000
DTEND;TZID=America/Los_Angeles:20260510T160000
DTSTAMP:20260424T070149
CREATED:20260225T001757Z
LAST-MODIFIED:20260228T005118Z
UID:93263-1778421600-1778428800@www.krsh.com
SUMMARY:The San Francisco Scottish Fiddlers at Crocker Theater in Aptos
DESCRIPTION:10 May 2026\n\n2:00 PM (PDT)\n\nCrocker Theater\, Aptos\, CA\n\nLEARN MORE\n\nThe San Francisco Scottish Fiddlers under the directorship of Caroline McCaskey bring Stravaig\, an afternoon stroll through Celtic music and culture\, to the Crocker Theater at Cabrillo College in Aptos on Sunday\, May 10th at 2pm.
URL:https://www.krsh.com/event/the-san-francisco-scottish-fiddlers-at-crocker-theater-in-aptos/
LOCATION:Crocker Theater\, 6500 Lower Perimeter Rd\, Aptos\, CA\, 95003\, United States
CATEGORIES:Concerts,Events
ATTACH;FMTTYPE=image/png:https://dehayf5mhw1h7.cloudfront.net/wp-content/uploads/sites/1697/2026/02/25000941/0b943887-0c8c-449e-8e81-8993af4b10d3.png
END:VEVENT
BEGIN:VEVENT
DTSTART;TZID=America/Los_Angeles:20260513T170000
DTEND;TZID=America/Los_Angeles:20260513T213000
DTSTAMP:20260424T070149
CREATED:20260420T205601Z
LAST-MODIFIED:20260420T205751Z
UID:94151-1778691600-1778707800@www.krsh.com
SUMMARY:FUEL: Wednesday Night Market
DESCRIPTION:Wednesday Night Market\, Old Courthouse Sqr\, Santa Rosa CA \nLEARN MORE
URL:https://www.krsh.com/event/fuel-wednesday-night-market/
LOCATION:Wednesday Night Market\, Old Courthouse Square\, Santa Rosa\, CA\, 95404\, United States
CATEGORIES:Concerts,Events
ATTACH;FMTTYPE=image/png:https://dehayf5mhw1h7.cloudfront.net/wp-content/uploads/sites/1697/2026/04/20205601/wnm-logo.png
END:VEVENT
BEGIN:VEVENT
DTSTART;TZID=America/Los_Angeles:20260514T200000
DTEND;TZID=America/Los_Angeles:20260514T230000
DTSTAMP:20260424T070149
CREATED:20260128T175112Z
LAST-MODIFIED:20260128T175112Z
UID:92901-1778788800-1778799600@www.krsh.com
SUMMARY:Lucy Dacus at Channel 24 Sacramento
DESCRIPTION:Lucy Dacus\n\nThu • May 14\, 2026 • 8:00 PM\nChannel 24\, Sacramento\, CA\n\nGET TICKETS
URL:https://www.krsh.com/event/lucy-dacus-at-channel-24-sacramento/
LOCATION:Channel 24 Sacramento\, 1800 24Th ST.\, Sacramento\, CA\, 95816\, United States
CATEGORIES:Concerts,Events
ATTACH;FMTTYPE=image/jpeg:https://dehayf5mhw1h7.cloudfront.net/wp-content/uploads/sites/1697/2026/01/28095058/lucydacus_ig.jpg
END:VEVENT
BEGIN:VEVENT
DTSTART;TZID=America/Los_Angeles:20260516T073000
DTEND;TZID=America/Los_Angeles:20260516T110000
DTSTAMP:20260424T070149
CREATED:20260417T195908Z
LAST-MODIFIED:20260417T195908Z
UID:94135-1778916600-1778929200@www.krsh.com
SUMMARY:Windsor Half Marathon
DESCRIPTION:Saturday\, May 16 \nWindsor Town Green \nREGISTER HERE\n  \nRACE DAY SCHEDULE: \n6:30am         Race Day Registration and Packet Pick-Up. \n7:15am         Packet Pick-Up Ends \n7:30am         Half Marathon Starts \n7:40am         10k Starts \n7:50am         5k Starts \n9:40am         10k Course Closes \n9:50am         5k Course Closes \n10:00am       Awards Available for Pick-Up \n11:00am       Half Marathon Course Closes
URL:https://www.krsh.com/event/windsor-half-marathon/
LOCATION:Windsor Town Green\, 701 McClelland Dr\, Windsor\, 95492\, United States
CATEGORIES:Events
ATTACH;FMTTYPE=image/jpeg:https://dehayf5mhw1h7.cloudfront.net/wp-content/uploads/sites/1697/2026/04/17125856/575168849_1405707944892123_3175657932176327962_n.jpg
END:VEVENT
BEGIN:VEVENT
DTSTART;TZID=America/Los_Angeles:20260520T170000
DTEND;TZID=America/Los_Angeles:20260520T213000
DTSTAMP:20260424T070149
CREATED:20260420T210229Z
LAST-MODIFIED:20260420T210229Z
UID:94155-1779296400-1779312600@www.krsh.com
SUMMARY:Banda Rancho Viejo: Wednesday Night Market
DESCRIPTION:Wednesday Night Market\, Old Courthouse Sqr\, Santa Rosa CA \nLEARN MORE
URL:https://www.krsh.com/event/banda-rancho-viejo-wednesday-night-market/
LOCATION:Wednesday Night Market\, Old Courthouse Square\, Santa Rosa\, CA\, 95404\, United States
CATEGORIES:Concerts,Events
ATTACH;FMTTYPE=image/png:https://dehayf5mhw1h7.cloudfront.net/wp-content/uploads/sites/1697/2026/04/20205601/wnm-logo.png
END:VEVENT
BEGIN:VEVENT
DTSTART;TZID=America/Los_Angeles:20260521T120000
DTEND;TZID=America/Los_Angeles:20260521T230000
DTSTAMP:20260424T070149
CREATED:20260316T212813Z
LAST-MODIFIED:20260316T212927Z
UID:93477-1779364800-1779404400@www.krsh.com
SUMMARY:Strawberry Music Festival Spring 2026
DESCRIPTION:2026 STRAWBERRY MUSIC FESTIVAL\nSPRING: May 21st–24th\nNevada County Fairgrounds\nGET TICKETS
URL:https://www.krsh.com/event/strawberry-music-festival-spring-2026/2026-05-21/
LOCATION:Nevada County Fairgrounds\, 11228 McCourtney Rd\, Grass Valley\, CA\, 95949\, United States
CATEGORIES:Concerts,Events
ATTACH;FMTTYPE=image/png:https://dehayf5mhw1h7.cloudfront.net/wp-content/uploads/sites/1697/2025/04/14123243/strawberry-music-fest.png
END:VEVENT
BEGIN:VEVENT
DTSTART;TZID=America/Los_Angeles:20260521T173000
DTEND;TZID=America/Los_Angeles:20260521T193000
DTSTAMP:20260424T070149
CREATED:20260406T183032Z
LAST-MODIFIED:20260406T183938Z
UID:93846-1779384600-1779391800@www.krsh.com
SUMMARY:Pour + Explore:  Alexander Valley\, Dry Creek Valley\, Knights Valley\, Russian River Valley at Paradise Ridge Winery
DESCRIPTION:Paradise Ridge Winery\, Santa Rosa\, CA \nThursday\, May 21 from 5:30 pm to 7:30 pm\n\nLEARN MORE
URL:https://www.krsh.com/event/pour-explore-alexander-valley-dry-creek-valley-knights-valley-russian-river-valley-at-paradise-ridge-winery/
LOCATION:Paradise Ridge Winery\, 4545 Thomas Lake Harris Dr\, Santa Rosa\, CA\, 95403\, United States
CATEGORIES:Events
ATTACH;FMTTYPE=image/png:https://dehayf5mhw1h7.cloudfront.net/wp-content/uploads/sites/1697/2026/04/03131202/pour-explore.png
END:VEVENT
BEGIN:VEVENT
DTSTART;TZID=America/Los_Angeles:20260522T120000
DTEND;TZID=America/Los_Angeles:20260522T230000
DTSTAMP:20260424T070149
CREATED:20260316T212813Z
LAST-MODIFIED:20260316T212813Z
UID:93479-1779451200-1779490800@www.krsh.com
SUMMARY:Strawberry Music Festival Spring 2026
DESCRIPTION:2026 STRAWBERRY MUSIC FESTIVAL\nSPRING: May 21st–24th\nNevada County Fairgrounds\nGET TICKETS
URL:https://www.krsh.com/event/strawberry-music-festival-spring-2026/2026-05-22/
LOCATION:Nevada County Fairgrounds\, 11228 McCourtney Rd\, Grass Valley\, CA\, 95949\, United States
CATEGORIES:Concerts,Events
ATTACH;FMTTYPE=image/png:https://dehayf5mhw1h7.cloudfront.net/wp-content/uploads/sites/1697/2025/04/14123243/strawberry-music-fest.png
END:VEVENT
BEGIN:VEVENT
DTSTART;TZID=America/Los_Angeles:20260523T120000
DTEND;TZID=America/Los_Angeles:20260523T230000
DTSTAMP:20260424T070149
CREATED:20260316T212813Z
LAST-MODIFIED:20260316T212813Z
UID:93480-1779537600-1779577200@www.krsh.com
SUMMARY:Strawberry Music Festival Spring 2026
DESCRIPTION:2026 STRAWBERRY MUSIC FESTIVAL\nSPRING: May 21st–24th\nNevada County Fairgrounds\nGET TICKETS
URL:https://www.krsh.com/event/strawberry-music-festival-spring-2026/2026-05-23/
LOCATION:Nevada County Fairgrounds\, 11228 McCourtney Rd\, Grass Valley\, CA\, 95949\, United States
CATEGORIES:Concerts,Events
ATTACH;FMTTYPE=image/png:https://dehayf5mhw1h7.cloudfront.net/wp-content/uploads/sites/1697/2025/04/14123243/strawberry-music-fest.png
END:VEVENT
BEGIN:VEVENT
DTSTART;TZID=America/Los_Angeles:20260524T120000
DTEND;TZID=America/Los_Angeles:20260524T230000
DTSTAMP:20260424T070149
CREATED:20260316T212813Z
LAST-MODIFIED:20260316T212813Z
UID:93481-1779624000-1779663600@www.krsh.com
SUMMARY:Strawberry Music Festival Spring 2026
DESCRIPTION:2026 STRAWBERRY MUSIC FESTIVAL\nSPRING: May 21st–24th\nNevada County Fairgrounds\nGET TICKETS
URL:https://www.krsh.com/event/strawberry-music-festival-spring-2026/2026-05-24/
LOCATION:Nevada County Fairgrounds\, 11228 McCourtney Rd\, Grass Valley\, CA\, 95949\, United States
CATEGORIES:Concerts,Events
ATTACH;FMTTYPE=image/png:https://dehayf5mhw1h7.cloudfront.net/wp-content/uploads/sites/1697/2025/04/14123243/strawberry-music-fest.png
END:VEVENT
BEGIN:VEVENT
DTSTART;TZID=America/Los_Angeles:20260524T190000
DTEND;TZID=America/Los_Angeles:20260524T220000
DTSTAMP:20260424T070149
CREATED:20260317T195748Z
LAST-MODIFIED:20260317T195748Z
UID:93500-1779649200-1779660000@www.krsh.com
SUMMARY:Charley Crockett - Age of the Ram Tour at the LBC
DESCRIPTION:Charley Crockett – Age of the Ram Tour w/ special guest Alicia Blue\nSunday\, May 24\, 2026 \n7:00 PM \nLuther Burbank Center for the Arts\, Santa Rosa \nGET TICKETS
URL:https://www.krsh.com/event/charley-crockett-age-of-the-ram-tour-at-the-lbc/
LOCATION:Luther Burbank Center\, 50 Mark West Springs Rd\, Santa Rosa\, CA\, 95403\, United States
CATEGORIES:Concerts,Events
ATTACH;FMTTYPE=image/jpeg:https://dehayf5mhw1h7.cloudfront.net/wp-content/uploads/sites/1697/2026/03/17125738/charleycrocket26_squareimagenotext_1080x1080-1.jpg
END:VEVENT
BEGIN:VEVENT
DTSTART;TZID=America/Los_Angeles:20260527T170000
DTEND;TZID=America/Los_Angeles:20260527T213000
DTSTAMP:20260424T070149
CREATED:20260420T210418Z
LAST-MODIFIED:20260423T193950Z
UID:94157-1779901200-1779917400@www.krsh.com
SUMMARY:Petty Theft: Wednesday Night Market
DESCRIPTION:Wednesday Night Market\, Old Courthouse Sqr\, Santa Rosa CA\nLEARN MORE
URL:https://www.krsh.com/event/petty-theft-wednesday-night-market/
LOCATION:Wednesday Night Market\, Old Courthouse Square\, Santa Rosa\, CA\, 95404\, United States
CATEGORIES:Concerts,Events
ATTACH;FMTTYPE=image/png:https://dehayf5mhw1h7.cloudfront.net/wp-content/uploads/sites/1697/2026/04/20205601/wnm-logo.png
END:VEVENT
BEGIN:VEVENT
DTSTART;TZID=America/Los_Angeles:20260529T200000
DTEND;TZID=America/Los_Angeles:20260529T230000
DTSTAMP:20260424T070149
CREATED:20260123T224354Z
LAST-MODIFIED:20260123T224354Z
UID:92840-1780084800-1780095600@www.krsh.com
SUMMARY:Alabama Shakes w/ Nathaniel Rateliff at the Greek Theatre Berkeley
DESCRIPTION:Alabama Shakes\nw/ Nathaniel Rateliff \n\nFri • May 29\, 2026 • 8:00 PM & Sat • May 30\, 2026 • 8:00 PM\nGreek Theatre-U.C. Berkeley\, Berkeley\, CA\n\nGET TICKETS
URL:https://www.krsh.com/event/alabama-shakes-w-nathaniel-rateliff-at-the-greek-theatre-berkeley/
LOCATION:Greek Theatre Berkeley\, 2001 Gayley Rd\, Berkeley\, CA\, 94720\, United States
CATEGORIES:Concerts,Events
ATTACH;FMTTYPE=image/jpeg:https://dehayf5mhw1h7.cloudfront.net/wp-content/uploads/sites/1697/2026/01/23144343/alabamashakes_ig2.jpg
END:VEVENT
BEGIN:VEVENT
DTSTART;TZID=America/Los_Angeles:20260530T170000
DTEND;TZID=America/Los_Angeles:20260530T200000
DTSTAMP:20260424T070149
CREATED:20260415T224616Z
LAST-MODIFIED:20260415T224918Z
UID:94048-1780160400-1780171200@www.krsh.com
SUMMARY:Terrapin Roadshow at Monte Rio Amphitheater 2026
DESCRIPTION:May 30 & 31 • 5PM & 2PM\nMonte Rio Amphitheater\, Monte Rio\, CA\n9925 Main St\, Monte Rio\, CA 95462 \n\n\n\n\n\n\n\n\n\n\nGET TICKETS\nFeaturing:\nGrahame Lesh\nJackie Greene\nDan “Lebo” Lebowitz\nMookie Siegel\nJeremy Hoenig\nElliott Peck\nwith Brian Switzer\, Adam Theis\, Alex Kelly\, Sheldon Brown\, & Mads Tolling
URL:https://www.krsh.com/event/terrapin-roadshow-at-monte-rio-amphitheater-2026/
LOCATION:Monte Rio Amphitheater\, 9925 Main St\, Monte Rio\, CA\, 95462\, United States
CATEGORIES:Concerts,Events
ATTACH;FMTTYPE=image/jpeg:https://dehayf5mhw1h7.cloudfront.net/wp-content/uploads/sites/1697/2026/04/15224616/9a10afe8-7654-4879-8c3e-d7354244ee41.jpeg
END:VEVENT
BEGIN:VEVENT
DTSTART;TZID=America/Los_Angeles:20260530T200000
DTEND;TZID=America/Los_Angeles:20260530T230000
DTSTAMP:20260424T070149
CREATED:20260123T224354Z
LAST-MODIFIED:20260123T224354Z
UID:92842-1780171200-1780182000@www.krsh.com
SUMMARY:Alabama Shakes w/ Nathaniel Rateliff at the Greek Theatre Berkeley
DESCRIPTION:Alabama Shakes\nw/ Nathaniel Rateliff \n\nFri • May 29\, 2026 • 8:00 PM & Sat • May 30\, 2026 • 8:00 PM\nGreek Theatre-U.C. Berkeley\, Berkeley\, CA\n\nGET TICKETS
URL:https://www.krsh.com/event/alabama-shakes-w-nathaniel-rateliff-at-the-greek-theatre-berkeley/2026-05-30/
LOCATION:Greek Theatre Berkeley\, 2001 Gayley Rd\, Berkeley\, CA\, 94720\, United States
CATEGORIES:Concerts,Events
ATTACH;FMTTYPE=image/jpeg:https://dehayf5mhw1h7.cloudfront.net/wp-content/uploads/sites/1697/2026/01/23144343/alabamashakes_ig2.jpg
END:VEVENT
BEGIN:VEVENT
DTSTART;TZID=America/Los_Angeles:20260603T170000
DTEND;TZID=America/Los_Angeles:20260603T213000
DTSTAMP:20260424T070149
CREATED:20260423T194512Z
LAST-MODIFIED:20260423T194512Z
UID:94229-1780506000-1780522200@www.krsh.com
SUMMARY:Los Alegres Callejeros: Wednesday Night Market
DESCRIPTION:Wednesday Night Market\, Old Courthouse Sqr\, Santa Rosa CA\nLEARN MORE
URL:https://www.krsh.com/event/los-alegres-callejeros-wednesday-night-market/
LOCATION:Wednesday Night Market\, Old Courthouse Square\, Santa Rosa\, CA\, 95404\, United States
CATEGORIES:Concerts,Events
ATTACH;FMTTYPE=image/png:https://dehayf5mhw1h7.cloudfront.net/wp-content/uploads/sites/1697/2026/04/20205601/wnm-logo.png
END:VEVENT
END:VCALENDAR